BEGIN:VCALENDAR
VERSION:2.0
METHOD:PUBLISH
PRODID:-//hacksw/handcal//NONSGML v1.0//EN
BEGIN:VEVENT
DTSTAMP:20260422T171135Z
DTSTART:20250816T190000Z
DTEND:20250816T215959Z
UID:20250816T190000Z-20250816T215959Z-11142@www.latin-lausitz.de
SUMMARY:Salsa Open Air vom Bellessa
DESCRIPTION:Mit Salsa-Live-Musik von Mayelis Guyat & DJ Pelao zum Tanz
 en und Genießen! Das alles Open Air im gemütlichen Ebert-Hof.
X-ALT-DESC;FMTTYPE=text/html:<p style=text-align: center>Mit Salsa-Liv
 e-Musik von Mayelis Guyat &amp\; DJ Pelao zum Tanzen und Genießen! Das
  alles Open Air im gemütlichen Ebert-Hof.</p>\n
URL:https://www.latin-lausitz.de/event/salsa-open-air-vom-bellessa/?la
 ng=de
ATTACH:https://www.latin-lausitz.de/event/salsa-open-air-vom-bellessa/
 ?lang=de
ATTACH:https://www.latin-lausitz.de/wp-content/uploads/2025/08/IMG-202
 50720-WA0007-150x150.jpg
LOCATION:Bellessa\, Bellessa Restaurant\, Cottbus
END:VEVENT
END:VCALENDAR
